BEGIN:VCALENDAR
VERSION:2.0
PRODID:-//Comité Régional d&#039;Ile de France de Pentathlon Moderne - ECPv5.9.0//NONSGML v1.0//EN
CALSCALE:GREGORIAN
METHOD:PUBLISH
X-WR-CALNAME:Comité Régional d&#039;Ile de France de Pentathlon Moderne
X-ORIGINAL-URL:https://www.cridfpentathlonmoderne.fr
X-WR-CALDESC:évènements pour Comité Régional d&#039;Ile de France de Pentathlon Moderne
BEGIN:VTIMEZONE
TZID:Europe/Paris
BEGIN:DAYLIGHT
TZOFFSETFROM:+0100
TZOFFSETTO:+0200
TZNAME:CEST
DTSTART:20210328T010000
END:DAYLIGHT
BEGIN:STANDARD
TZOFFSETFROM:+0200
TZOFFSETTO:+0100
TZNAME:CET
DTSTART:20211031T010000
END:STANDARD
END:VTIMEZONE
BEGIN:VEVENT
DTSTART;TZID=Europe/Paris:20210917T183000
DTEND;TZID=Europe/Paris:20210917T230000
DTSTAMP:20260424T144948
CREATED:20210908T180318Z
LAST-MODIFIED:20210908T180318Z
UID:3626-1631903400-1631919600@www.cridfpentathlonmoderne.fr
SUMMARY:Compétition de laser run en soirée à Coulommiers
DESCRIPTION:
URL:https://www.cridfpentathlonmoderne.fr/event/competition-de-laser-run-en-soiree-a-coulommiers/
LOCATION:Coulommiers
END:VEVENT
END:VCALENDAR