BEGIN:VCALENDAR
VERSION:2.0
PRODID:-//Comité Régional d&#039;Ile de France de Pentathlon Moderne - ECPv5.9.0//NONSGML v1.0//EN
CALSCALE:GREGORIAN
METHOD:PUBLISH
X-WR-CALNAME:Comité Régional d&#039;Ile de France de Pentathlon Moderne
X-ORIGINAL-URL:https://www.cridfpentathlonmoderne.fr
X-WR-CALDESC:évènements pour Comité Régional d&#039;Ile de France de Pentathlon Moderne
BEGIN:VTIMEZONE
TZID:Europe/Paris
BEGIN:DAYLIGHT
TZOFFSETFROM:+0100
TZOFFSETTO:+0200
TZNAME:CEST
DTSTART:20210328T010000
END:DAYLIGHT
BEGIN:STANDARD
TZOFFSETFROM:+0200
TZOFFSETTO:+0100
TZNAME:CET
DTSTART:20211031T010000
END:STANDARD
END:VTIMEZONE
BEGIN:VEVENT
DTSTART;TZID=Europe/Paris:20211113T133000
DTEND;TZID=Europe/Paris:20211114T120000
DTSTAMP:20260424T122132
CREATED:20210929T151147Z
LAST-MODIFIED:20210929T151828Z
UID:3822-1636810200-1636891200@www.cridfpentathlonmoderne.fr
SUMMARY:Championnat de France de tétrathlon - Cadets
DESCRIPTION:  \nVoici le programme du Championnat de France de tétrathlon Cadets 2021 ainsi que toutes les informations nécessaires (lieux\, prix\, contact…). Cliquez ici ! 
URL:https://www.cridfpentathlonmoderne.fr/event/championnat-de-france-de-tetrathlon-cadets/
LOCATION:Championnat de France de tétrathlon Cadets 2021\, 51 avenue Pierre Brossolette\, Saint Maur des Fossés\, 94100\, France
END:VEVENT
END:VCALENDAR