BEGIN:VCALENDAR
VERSION:2.0
PRODID:-//Comité Régional d&#039;Ile de France de Pentathlon Moderne - ECPv5.9.0//NONSGML v1.0//EN
CALSCALE:GREGORIAN
METHOD:PUBLISH
X-WR-CALNAME:Comité Régional d&#039;Ile de France de Pentathlon Moderne
X-ORIGINAL-URL:https://www.cridfpentathlonmoderne.fr
X-WR-CALDESC:évènements pour Comité Régional d&#039;Ile de France de Pentathlon Moderne
BEGIN:VTIMEZONE
TZID:Europe/Paris
BEGIN:DAYLIGHT
TZOFFSETFROM:+0100
TZOFFSETTO:+0200
TZNAME:CEST
DTSTART:20230326T010000
END:DAYLIGHT
BEGIN:STANDARD
TZOFFSETFROM:+0200
TZOFFSETTO:+0100
TZNAME:CET
DTSTART:20231029T010000
END:STANDARD
END:VTIMEZONE
BEGIN:VEVENT
DTSTART;TZID=Europe/Paris:20230601T080000
DTEND;TZID=Europe/Paris:20230604T170000
DTSTAMP:20260423T102712
CREATED:20230317T090145Z
LAST-MODIFIED:20230317T090145Z
UID:4968-1685606400-1685898000@www.cridfpentathlonmoderne.fr
SUMMARY:Coupe du Monde Finale de Pentathlon - Ankara\, Turquie
DESCRIPTION:
URL:https://www.cridfpentathlonmoderne.fr/event/coupe-du-monde-finale-de-pentathlon-ankara-turquie/
END:VEVENT
BEGIN:VEVENT
DTSTART;TZID=Europe/Paris:20230601T080000
DTEND;TZID=Europe/Paris:20230611T170000
DTSTAMP:20260423T102712
CREATED:20230317T090244Z
LAST-MODIFIED:20230317T090253Z
UID:4970-1685606400-1686502800@www.cridfpentathlonmoderne.fr
SUMMARY:Championnats d'Europe U17/U19 à Druskininkai
DESCRIPTION:
URL:https://www.cridfpentathlonmoderne.fr/event/championnats-deurope-u17-u19-a-druskininkai/
END:VEVENT
BEGIN:VEVENT
DTSTART;VALUE=DATE:20230603
DTEND;VALUE=DATE:20230605
DTSTAMP:20260423T102712
CREATED:20221104T093035Z
LAST-MODIFIED:20230316T164956Z
UID:4604-1685750400-1685923199@www.cridfpentathlonmoderne.fr
SUMMARY:Triathle - Finale nationale
DESCRIPTION:La finale nationale du Triathle aura lieu à l’INSEP le 3 et 4 juin 2023.
URL:https://www.cridfpentathlonmoderne.fr/event/triathle-finale-nationale/
END:VEVENT
END:VCALENDAR