BEGIN:VCALENDAR
VERSION:2.0
PRODID:-//Comité Régional d&#039;Ile de France de Pentathlon Moderne - ECPv5.9.0//NONSGML v1.0//EN
CALSCALE:GREGORIAN
METHOD:PUBLISH
X-WR-CALNAME:Comité Régional d&#039;Ile de France de Pentathlon Moderne
X-ORIGINAL-URL:https://www.cridfpentathlonmoderne.fr
X-WR-CALDESC:évènements pour Comité Régional d&#039;Ile de France de Pentathlon Moderne
BEGIN:VTIMEZONE
TZID:Europe/Paris
BEGIN:DAYLIGHT
TZOFFSETFROM:+0100
TZOFFSETTO:+0200
TZNAME:CEST
DTSTART:20220327T010000
END:DAYLIGHT
BEGIN:STANDARD
TZOFFSETFROM:+0200
TZOFFSETTO:+0100
TZNAME:CET
DTSTART:20221030T010000
END:STANDARD
END:VTIMEZONE
BEGIN:VEVENT
DTSTART;TZID=Europe/Paris:20220514T123000
DTEND;TZID=Europe/Paris:20220515T170000
DTSTAMP:20260424T021450
CREATED:20220512T125629Z
LAST-MODIFIED:20220512T125629Z
UID:4405-1652531400-1652634000@www.cridfpentathlonmoderne.fr
SUMMARY:Laser Run - Finale régionale
DESCRIPTION:Le samedi 14 et dimanche 15 mai aura lieu la finale régionale de laser run à Neuilly-Plaisance. \nCliquez-ici pour consulter le programme.
URL:https://www.cridfpentathlonmoderne.fr/event/laser-run-finale-regionale/
END:VEVENT
END:VCALENDAR