BEGIN:VCALENDAR
VERSION:2.0
PRODID:-//Comité Régional d&#039;Ile de France de Pentathlon Moderne - ECPv5.9.0//NONSGML v1.0//EN
CALSCALE:GREGORIAN
METHOD:PUBLISH
X-WR-CALNAME:Comité Régional d&#039;Ile de France de Pentathlon Moderne
X-ORIGINAL-URL:https://www.cridfpentathlonmoderne.fr
X-WR-CALDESC:évènements pour Comité Régional d&#039;Ile de France de Pentathlon Moderne
BEGIN:VTIMEZONE
TZID:Europe/Paris
BEGIN:DAYLIGHT
TZOFFSETFROM:+0100
TZOFFSETTO:+0200
TZNAME:CEST
DTSTART:20210328T010000
END:DAYLIGHT
BEGIN:STANDARD
TZOFFSETFROM:+0200
TZOFFSETTO:+0100
TZNAME:CET
DTSTART:20211031T010000
END:STANDARD
END:VTIMEZONE
BEGIN:VEVENT
DTSTART;TZID=Europe/Paris:20211023T110000
DTEND;TZID=Europe/Paris:20211024T150000
DTSTAMP:20260421T212051
CREATED:20211012T094739Z
LAST-MODIFIED:20211012T095115Z
UID:3987-1634986800-1635087600@www.cridfpentathlonmoderne.fr
SUMMARY:Championnats de France de tétrathlon U17 & Masters à Perpignan
DESCRIPTION:Les championnats de France de tétrathlon des catégories U17 et Masters auront lieu le 23 et 24 octobre 2021 à Perpignan. Retrouvez le programme dans son intégralité en cliquant ici.
URL:https://www.cridfpentathlonmoderne.fr/event/championnats-de-france-de-tetrathlon-u17-masters-a-perpignan/
END:VEVENT
END:VCALENDAR