BEGIN:VCALENDAR
VERSION:2.0
PRODID:-//Comité Régional d&#039;Ile de France de Pentathlon Moderne - ECPv5.9.0//NONSGML v1.0//EN
CALSCALE:GREGORIAN
METHOD:PUBLISH
X-WR-CALNAME:Comité Régional d&#039;Ile de France de Pentathlon Moderne
X-ORIGINAL-URL:https://www.cridfpentathlonmoderne.fr
X-WR-CALDESC:évènements pour Comité Régional d&#039;Ile de France de Pentathlon Moderne
BEGIN:VTIMEZONE
TZID:Europe/Paris
BEGIN:DAYLIGHT
TZOFFSETFROM:+0100
TZOFFSETTO:+0200
TZNAME:CEST
DTSTART:20220327T010000
END:DAYLIGHT
BEGIN:STANDARD
TZOFFSETFROM:+0200
TZOFFSETTO:+0100
TZNAME:CET
DTSTART:20221030T010000
END:STANDARD
END:VTIMEZONE
BEGIN:VEVENT
DTSTART;TZID=Europe/Paris:20221217T080000
DTEND;TZID=Europe/Paris:20221218T170000
DTSTAMP:20260421T210858
CREATED:20221104T092525Z
LAST-MODIFIED:20221104T092525Z
UID:4598-1671264000-1671382800@www.cridfpentathlonmoderne.fr
SUMMARY:Championnats de France U22 - Senior
DESCRIPTION:Le 17 et 18 décembre prochain a lieu le Championnats de France U22 – Senior à l’INSEP.
URL:https://www.cridfpentathlonmoderne.fr/event/championnats-de-france-u22-senior/
END:VEVENT
END:VCALENDAR