BEGIN:VCALENDAR
VERSION:2.0
PRODID:-//Comité Régional d&#039;Ile de France de Pentathlon Moderne - ECPv5.9.0//NONSGML v1.0//EN
CALSCALE:GREGORIAN
METHOD:PUBLISH
X-WR-CALNAME:Comité Régional d&#039;Ile de France de Pentathlon Moderne
X-ORIGINAL-URL:https://www.cridfpentathlonmoderne.fr
X-WR-CALDESC:évènements pour Comité Régional d&#039;Ile de France de Pentathlon Moderne
BEGIN:VTIMEZONE
TZID:Europe/Paris
BEGIN:DAYLIGHT
TZOFFSETFROM:+0100
TZOFFSETTO:+0200
TZNAME:CEST
DTSTART:20230326T010000
END:DAYLIGHT
BEGIN:STANDARD
TZOFFSETFROM:+0200
TZOFFSETTO:+0100
TZNAME:CET
DTSTART:20231029T010000
END:STANDARD
END:VTIMEZONE
BEGIN:VEVENT
DTSTART;TZID=Europe/Paris:20230614T080000
DTEND;TZID=Europe/Paris:20230618T170000
DTSTAMP:20260421T160126
CREATED:20230317T090437Z
LAST-MODIFIED:20230317T090437Z
UID:4974-1686729600-1687107600@www.cridfpentathlonmoderne.fr
SUMMARY:Championnats de Pentathlon d'Europe Juniors à Istanbul
DESCRIPTION:
URL:https://www.cridfpentathlonmoderne.fr/event/championnats-de-pentathlon-deurope-juniors-a-istanbul/
END:VEVENT
END:VCALENDAR