BEGIN:VCALENDAR
VERSION:2.0
PRODID:-//Comité Régional d&#039;Ile de France de Pentathlon Moderne - ECPv5.9.0//NONSGML v1.0//EN
CALSCALE:GREGORIAN
METHOD:PUBLISH
X-WR-CALNAME:Comité Régional d&#039;Ile de France de Pentathlon Moderne
X-ORIGINAL-URL:https://www.cridfpentathlonmoderne.fr
X-WR-CALDESC:évènements pour Comité Régional d&#039;Ile de France de Pentathlon Moderne
BEGIN:VTIMEZONE
TZID:Europe/Paris
BEGIN:DAYLIGHT
TZOFFSETFROM:+0100
TZOFFSETTO:+0200
TZNAME:CEST
DTSTART:20230326T010000
END:DAYLIGHT
BEGIN:STANDARD
TZOFFSETFROM:+0200
TZOFFSETTO:+0100
TZNAME:CET
DTSTART:20231029T010000
END:STANDARD
END:VTIMEZONE
BEGIN:VEVENT
DTSTART;TZID=Europe/Paris:20230712T080000
DTEND;TZID=Europe/Paris:20230716T170000
DTSTAMP:20260421T160049
CREATED:20230317T090711Z
LAST-MODIFIED:20230317T090711Z
UID:4981-1689148800-1689526800@www.cridfpentathlonmoderne.fr
SUMMARY:Championnats du Monde U17 à Alexandrie
DESCRIPTION:
URL:https://www.cridfpentathlonmoderne.fr/event/championnats-du-monde-u17-a-alexandrie/
END:VEVENT
END:VCALENDAR