BEGIN:VCALENDAR
VERSION:2.0
PRODID:-//Comité Régional d&#039;Ile de France de Pentathlon Moderne - ECPv5.9.0//NONSGML v1.0//EN
CALSCALE:GREGORIAN
METHOD:PUBLISH
X-WR-CALNAME:Comité Régional d&#039;Ile de France de Pentathlon Moderne
X-ORIGINAL-URL:https://www.cridfpentathlonmoderne.fr
X-WR-CALDESC:évènements pour Comité Régional d&#039;Ile de France de Pentathlon Moderne
BEGIN:VTIMEZONE
TZID:Europe/Paris
BEGIN:DAYLIGHT
TZOFFSETFROM:+0100
TZOFFSETTO:+0200
TZNAME:CEST
DTSTART:20220327T010000
END:DAYLIGHT
BEGIN:STANDARD
TZOFFSETFROM:+0200
TZOFFSETTO:+0100
TZNAME:CET
DTSTART:20221030T010000
END:STANDARD
END:VTIMEZONE
BEGIN:VEVENT
DTSTART;TZID=Europe/Paris:20220403T080000
DTEND;TZID=Europe/Paris:20220403T130000
DTSTAMP:20260421T195658
CREATED:20220218T161132Z
LAST-MODIFIED:20220218T165013Z
UID:4257-1648972800-1648990800@www.cridfpentathlonmoderne.fr
SUMMARY:Compétition de Laser Run à Rambouillet
DESCRIPTION:Le 3 avril 2022 aura lieu une compétition de Laser Run à Rambouillet. Cliquez-ici pour découvrir le programme de la compétition.
URL:https://www.cridfpentathlonmoderne.fr/event/competition-de-laser-run-a-rambouillet/
LOCATION:Rambouillet\, Rambouillet
END:VEVENT
END:VCALENDAR