BEGIN:VCALENDAR
VERSION:2.0
PRODID:-//Comité Régional d&#039;Ile de France de Pentathlon Moderne - ECPv5.9.0//NONSGML v1.0//EN
CALSCALE:GREGORIAN
METHOD:PUBLISH
X-WR-CALNAME:Comité Régional d&#039;Ile de France de Pentathlon Moderne
X-ORIGINAL-URL:https://www.cridfpentathlonmoderne.fr
X-WR-CALDESC:évènements pour Comité Régional d&#039;Ile de France de Pentathlon Moderne
BEGIN:VTIMEZONE
TZID:Europe/Paris
BEGIN:DAYLIGHT
TZOFFSETFROM:+0100
TZOFFSETTO:+0200
TZNAME:CEST
DTSTART:20220327T010000
END:DAYLIGHT
BEGIN:STANDARD
TZOFFSETFROM:+0200
TZOFFSETTO:+0100
TZNAME:CET
DTSTART:20221030T010000
END:STANDARD
END:VTIMEZONE
BEGIN:VEVENT
DTSTART;TZID=Europe/Paris:20220313T080000
DTEND;TZID=Europe/Paris:20220313T130000
DTSTAMP:20260421T210527
CREATED:20220218T160451Z
LAST-MODIFIED:20220218T160451Z
UID:4249-1647158400-1647176400@www.cridfpentathlonmoderne.fr
SUMMARY:Compétition de Laser Run
DESCRIPTION:Le 13 mars 2022 aura lieu une compétition de Laser Run à Fontainebleau.
URL:https://www.cridfpentathlonmoderne.fr/event/competition-de-laser-run/
LOCATION:Fontainebleau\, Fontainebleau
END:VEVENT
END:VCALENDAR