BEGIN:VCALENDAR
VERSION:2.0
PRODID:-//Comité Régional d&#039;Ile de France de Pentathlon Moderne - ECPv5.9.0//NONSGML v1.0//EN
CALSCALE:GREGORIAN
METHOD:PUBLISH
X-WR-CALNAME:Comité Régional d&#039;Ile de France de Pentathlon Moderne
X-ORIGINAL-URL:https://www.cridfpentathlonmoderne.fr
X-WR-CALDESC:évènements pour Comité Régional d&#039;Ile de France de Pentathlon Moderne
BEGIN:VTIMEZONE
TZID:Europe/Paris
BEGIN:DAYLIGHT
TZOFFSETFROM:+0100
TZOFFSETTO:+0200
TZNAME:CEST
DTSTART:20220327T010000
END:DAYLIGHT
BEGIN:STANDARD
TZOFFSETFROM:+0200
TZOFFSETTO:+0100
TZNAME:CET
DTSTART:20221030T010000
END:STANDARD
END:VTIMEZONE
BEGIN:VEVENT
DTSTART;TZID=Europe/Paris:20220326T080000
DTEND;TZID=Europe/Paris:20220326T130000
DTSTAMP:20260421T210709
CREATED:20220218T160710Z
LAST-MODIFIED:20220218T160710Z
UID:4252-1648281600-1648299600@www.cridfpentathlonmoderne.fr
SUMMARY:Compétition Laser Run à Coulomiers
DESCRIPTION:Le 26 mars 2022 aura lieu une compétition de Laser Run à Coulomiers.
URL:https://www.cridfpentathlonmoderne.fr/event/competition-laser-run-a-coulomiers/
LOCATION:Coulomiers\, Coulomiers
END:VEVENT
END:VCALENDAR